BEGIN:VCALENDAR
PRODID:-//HOLYCROSS//NONSGML Calendar//EN
VERSION:2.0
URL:https://sbdhs.net/ical.ics
CALSCALE:GREGORIAN
METHOD:PUBLISH
NAME:HOLYCROSS
X-WR-CALNAME:HOLYCROSS
REFRESH-INTERVAL;VALUE=DURATION:PT24H
X-PUBLISHED-TTL:PT24H

BEGIN:VEVENT
DTSTART:20260422T095733
DTEND:20260422T095733
DTSTAMP:20260422T095733
UID:d41d8cd98f00b204e9800998ecf8427e@sbdhs.net
CREATED:19691231T190000
DESCRIPTION:
LAST-MODIFIED:19691231T190000
SEQUENCE:0
LOCATION:
STATUS:CONFIRMED
SUMMARY:
TRANSP:OPAQUE
CATEGORIES:
END:VEVENT

BEGIN:VEVENT
DTSTART:20260326T113500
DTEND:20260326T122000
DTSTAMP:20260422T095733
UID:fa3a3c407f82377f55c19c5d403335c7@sbdhs.net
CREATED:20250602T121708
DESCRIPTION:
LAST-MODIFIED:20250602T121708
SEQUENCE:0
LOCATION:
STATUS:CONFIRMED
SUMMARY:Pizza lunch for those who ordered ONLY!
TRANSP:OPAQUE
CATEGORIES:General
END:VEVENT

BEGIN:VEVENT
DTSTART:20260326T140000
DTEND:20260326T141500
DTSTAMP:20260422T095733
UID:ce78d1da254c0843eb23951ae077ff5f@sbdhs.net
CREATED:20250602T121853
DESCRIPTION:&lt\;p&gt\;After care is available&lt\;/p&gt\;
LAST-MODIFIED:20250602T121853
SEQUENCE:0
LOCATION:
STATUS:CONFIRMED
SUMMARY:Early Dismissal 
TRANSP:OPAQUE
CATEGORIES:Early Dismissal
END:VEVENT

BEGIN:VEVENT
DTSTART:20260326T143000
DTEND:20260326T183000
DTSTAMP:20260422T095733
UID:c2626d850c80ea07e7511bbae4c76f4b@sbdhs.net
CREATED:20250602T121804
DESCRIPTION:
LAST-MODIFIED:20250602T121804
SEQUENCE:0
LOCATION:
STATUS:CONFIRMED
SUMMARY:Parent Teacher Interviews In person
TRANSP:OPAQUE
CATEGORIES:Parent Teacher Interviews
END:VEVENT

BEGIN:VEVENT
DTSTART:20260327T113500
DTEND:20260327T234500
DTSTAMP:20260422T095733
UID:8e82ab7243b7c66d768f1b8ce1c967eb@sbdhs.net
CREATED:20250819T104506
DESCRIPTION:&lt\;p&gt\;NO AFTERCARE&lt\;/p&gt\;
LAST-MODIFIED:20250819T104506
SEQUENCE:0
LOCATION:
STATUS:CONFIRMED
SUMMARY:Early Dismissal Day. Pick up by 11:30 NO AFTERCARE!
TRANSP:OPAQUE
CATEGORIES:Early Dismissal
END:VEVENT

BEGIN:VEVENT
DTSTART:20260327T123000
DTEND:20260327T150000
DTSTAMP:20260422T095733
UID:e0ec453e28e061cc58ac43f91dc2f3f0@sbdhs.net
CREATED:20250819T104519
DESCRIPTION:
LAST-MODIFIED:20250819T104519
SEQUENCE:0
LOCATION:
STATUS:CONFIRMED
SUMMARY:Parent Teacher Interviews Phone Only!
TRANSP:OPAQUE
CATEGORIES:Parent Teacher Interviews
END:VEVENT

BEGIN:VEVENT
DTSTART:20260328
DTEND:20260405
DTSTAMP:20260422T095733
UID:7250eb93b3c18cc9daa29cf58af7a004@sbdhs.net
CREATED:20250602T122036
DESCRIPTION:
LAST-MODIFIED:20250602T122036
SEQUENCE:0
LOCATION:
STATUS:CONFIRMED
SUMMARY:Spring Break!
TRANSP:OPAQUE
CATEGORIES:No School
END:VEVENT

BEGIN:VEVENT
DTSTART:20260402
DTSTAMP:20260422T095733
UID:013a006f03dbc5392effeb8f18fda755@sbdhs.net
CREATED:20250602T122120
DESCRIPTION:
LAST-MODIFIED:20250602T122120
SEQUENCE:0
LOCATION:
STATUS:CONFIRMED
SUMMARY:Holy Thursday
TRANSP:OPAQUE
CATEGORIES:Mass 
END:VEVENT

BEGIN:VEVENT
DTSTART:20260403
DTSTAMP:20260422T095733
UID:301ad0e3bd5cb1627a2044908a42fdc2@sbdhs.net
CREATED:20250602T122133
DESCRIPTION:
LAST-MODIFIED:20250602T122133
SEQUENCE:0
LOCATION:
STATUS:CONFIRMED
SUMMARY:Good Friday
TRANSP:OPAQUE
CATEGORIES:Mass 
END:VEVENT

BEGIN:VEVENT
DTSTART:20260404
DTSTAMP:20260422T095733
UID:4d5b995358e7798bc7e9d9db83c612a5@sbdhs.net
CREATED:20250602T122144
DESCRIPTION:
LAST-MODIFIED:20250602T122144
SEQUENCE:0
LOCATION:
STATUS:CONFIRMED
SUMMARY:Holy Saturday
TRANSP:OPAQUE
CATEGORIES:Mass 
END:VEVENT

BEGIN:VEVENT
DTSTART:20260405
DTSTAMP:20260422T095733
UID:ab88b15733f543179858600245108dd8@sbdhs.net
CREATED:20250602T122158
DESCRIPTION:
LAST-MODIFIED:20250602T122158
SEQUENCE:0
LOCATION:
STATUS:CONFIRMED
SUMMARY:Easter Sunday
TRANSP:OPAQUE
CATEGORIES:Mass 
END:VEVENT

BEGIN:VEVENT
DTSTART:20260406
DTSTAMP:20260422T095733
UID:b0b183c207f46f0cca7dc63b2604f5cc@sbdhs.net
CREATED:20250818T133259
DESCRIPTION:
LAST-MODIFIED:20250818T133259
SEQUENCE:0
LOCATION:
STATUS:CONFIRMED
SUMMARY:Easter Monday. No School. No AT
TRANSP:OPAQUE
CATEGORIES:No School
END:VEVENT

BEGIN:VEVENT
DTSTART:20260407
DTSTAMP:20260422T095733
UID:f9028faec74be6ec9b852b0a542e2f39@sbdhs.net
CREATED:20250602T122225
DESCRIPTION:
LAST-MODIFIED:20250602T122225
SEQUENCE:0
LOCATION:
STATUS:CONFIRMED
SUMMARY:Welcome Back!
TRANSP:OPAQUE
CATEGORIES:General
END:VEVENT

BEGIN:VEVENT
DTSTART:20260409T133000
DTEND:20260409T143000
DTSTAMP:20260422T095733
UID:8f7d807e1f53eff5f9efbe5cb81090fb@sbdhs.net
CREATED:20250602T122254
DESCRIPTION:&lt\;p&gt\;For students leaving early:&lt\;/p&gt\;&lt\;p&gt\;They must either be picked up Prior to 1 PM or After we return! We will not be keeping students at school to be picked up. If they are here at 1 they will attend Mass.&lt\;/p&gt\;
LAST-MODIFIED:20250602T122254
SEQUENCE:0
LOCATION:
STATUS:CONFIRMED
SUMMARY:Easter Mass
TRANSP:OPAQUE
CATEGORIES:Mass 
END:VEVENT

BEGIN:VEVENT
DTSTART:20260417T113500
DTEND:20260417T122000
DTSTAMP:20260422T095733
UID:fa83a11a198d5a7f0bf77a1987bcd006@sbdhs.net
CREATED:20250602T122320
DESCRIPTION:
LAST-MODIFIED:20250602T122320
SEQUENCE:0
LOCATION:
STATUS:CONFIRMED
SUMMARY:Pizza lunch for those who ordered ONLY!
TRANSP:OPAQUE
CATEGORIES:General
END:VEVENT

BEGIN:VEVENT
DTSTART:20260420
DTSTAMP:20260422T095733
UID:02a32ad2669e6fe298e607fe7cc0e1a0@sbdhs.net
CREATED:20250602T122344
DESCRIPTION:
LAST-MODIFIED:20250602T122344
SEQUENCE:0
LOCATION:
STATUS:CONFIRMED
SUMMARY:Liturgy of Light
TRANSP:OPAQUE
CATEGORIES:Mass 
END:VEVENT

BEGIN:VEVENT
DTSTART:20260421T140000
DTEND:20260421T141500
DTSTAMP:20260422T095733
UID:fc3cf452d3da8402bebb765225ce8c0e@sbdhs.net
CREATED:20251002T122133
DESCRIPTION:&lt\;p&gt\;All students not picked up will be taken to after care&lt\;/p&gt\;
LAST-MODIFIED:20251002T122133
SEQUENCE:0
LOCATION:
STATUS:CONFIRMED
SUMMARY:Early Dismissal
TRANSP:OPAQUE
CATEGORIES:Early Dismissal
END:VEVENT

BEGIN:VEVENT
DTSTART:20260421T190000
DTEND:20260421T200000
DTSTAMP:20260422T095733
UID:24896ee4c6526356cc127852413ea3b4@sbdhs.net
CREATED:20251002T122152
DESCRIPTION:&lt\;p&gt\;Monthly PAC meeting&lt\;/p&gt\;
LAST-MODIFIED:20251002T122152
SEQUENCE:0
LOCATION:
STATUS:CONFIRMED
SUMMARY:PAC meeting
TRANSP:OPAQUE
CATEGORIES:General
END:VEVENT

BEGIN:VEVENT
DTSTART:20260428T090000
DTEND:20260428T160000
DTSTAMP:20260422T095733
UID:d2ed45a52bc0edfa11c2064e9edee8bf@sbdhs.net
CREATED:20251203T140039
DESCRIPTION:&lt\;p&gt\;All grade 7/8 badminton team members will go to Dakota Fieldhouse for either their singles\, doubles\, or mixed doubles.&lt\;/p&gt\;
LAST-MODIFIED:20251203T140039
SEQUENCE:0
LOCATION:Dakota Field House
STATUS:CONFIRMED
SUMMARY:Grade 7/8 Badminton Tournament
TRANSP:OPAQUE
CATEGORIES:Competitive Sports
END:VEVENT

BEGIN:VEVENT
DTSTART:20260430T113500
DTEND:20260430T122000
DTSTAMP:20260422T095733
UID:e97ee2054defb209c35fe4dc94599061@sbdhs.net
CREATED:20250602T122515
DESCRIPTION:
LAST-MODIFIED:20250602T122515
SEQUENCE:0
LOCATION:
STATUS:CONFIRMED
SUMMARY:Pizza lunch for those who ordered ONLY!
TRANSP:OPAQUE
CATEGORIES:General
END:VEVENT

BEGIN:VEVENT
DTSTART:20260501
DTSTAMP:20260422T095733
UID:b86e8d03fe992d1b0e19656875ee557c@sbdhs.net
CREATED:20250602T122538
DESCRIPTION:
LAST-MODIFIED:20250602T122538
SEQUENCE:0
LOCATION:
STATUS:CONFIRMED
SUMMARY:No School
TRANSP:OPAQUE
CATEGORIES:No School
END:VEVENT

BEGIN:VEVENT
DTSTART:20260505T130000
DTEND:20260505T143000
DTSTAMP:20260422T095733
UID:84f7e69969dea92a925508f7c1f9579a@sbdhs.net
CREATED:20250602T122623
DESCRIPTION:&lt\;p&gt\;For students leaving early:&lt\;/p&gt\;&lt\;p&gt\;They must either be picked up Prior to 12:30 PM or After we return! We will not be keeping students at school to be picked up. If they are here at 12:30 &amp\;nbsp\;they will attend Mass.&lt\;/p&gt\;
LAST-MODIFIED:20250602T122623
SEQUENCE:0
LOCATION:
STATUS:CONFIRMED
SUMMARY:Crowning of Mary Mass
TRANSP:OPAQUE
CATEGORIES:Mass 
END:VEVENT

BEGIN:VEVENT
DTSTART:20260506
DTSTAMP:20260422T095733
UID:3d8e28caf901313a554cebc7d32e67e5@sbdhs.net
CREATED:20260210T100833
DESCRIPTION:
LAST-MODIFIED:20260210T100833
SEQUENCE:0
LOCATION:
STATUS:CONFIRMED
SUMMARY:Grade 8 photos + class photos
TRANSP:OPAQUE
CATEGORIES:General
END:VEVENT

BEGIN:VEVENT
DTSTART:20260510
DTSTAMP:20260422T095733
UID:f4552671f8909587cf485ea990207f3b@sbdhs.net
CREATED:20250602T122643
DESCRIPTION:
LAST-MODIFIED:20250602T122643
SEQUENCE:0
LOCATION:
STATUS:CONFIRMED
SUMMARY:Happy Mothers Day!
TRANSP:OPAQUE
CATEGORIES:General
END:VEVENT

BEGIN:VEVENT
DTSTART:20260515T113500
DTEND:20260515T122000
DTSTAMP:20260422T095733
UID:362e80d4df43b03ae6d3f8540cd63626@sbdhs.net
CREATED:20250602T122841
DESCRIPTION:
LAST-MODIFIED:20250602T122841
SEQUENCE:0
LOCATION:
STATUS:CONFIRMED
SUMMARY:Pizza lunch for those who ordered ONLY!
TRANSP:OPAQUE
CATEGORIES:General
END:VEVENT

BEGIN:VEVENT
DTSTART:20260518
DTSTAMP:20260422T095733
UID:fe8c15fed5f808006ce95eddb7366e35@sbdhs.net
CREATED:20250602T122854
DESCRIPTION:
LAST-MODIFIED:20250602T122854
SEQUENCE:0
LOCATION:
STATUS:CONFIRMED
SUMMARY:Victoria Day!
TRANSP:OPAQUE
CATEGORIES:No School
END:VEVENT

BEGIN:VEVENT
DTSTART:20260519T140000
DTEND:20260519T190000
DTSTAMP:20260422T095733
UID:1efa39bcaec6f3900149160693694536@sbdhs.net
CREATED:20250602T122942
DESCRIPTION:&lt\;p&gt\;Any students not picked up by 2:15 will be taken to the afterschool program.&lt\;/p&gt\;
LAST-MODIFIED:20250602T122942
SEQUENCE:0
LOCATION:
STATUS:CONFIRMED
SUMMARY:Early Dismissal
TRANSP:OPAQUE
CATEGORIES:Early Dismissal
END:VEVENT

BEGIN:VEVENT
DTSTART:20260519T190000
DTEND:20260519T200000
DTSTAMP:20260422T095733
UID:23ce1851341ec1fa9e0c259de10bf87c@sbdhs.net
CREATED:20251002T122210
DESCRIPTION:&lt\;p&gt\;Monthly PAC meeting&lt\;/p&gt\;
LAST-MODIFIED:20251002T122210
SEQUENCE:0
LOCATION:
STATUS:CONFIRMED
SUMMARY:PAC meeting
TRANSP:OPAQUE
CATEGORIES:General
END:VEVENT

BEGIN:VEVENT
DTSTART:20260524
DTSTAMP:20260422T095733
UID:92fb0c6d1758261f10d052e6e2c1123c@sbdhs.net
CREATED:20250602T123013
DESCRIPTION:
LAST-MODIFIED:20250602T123013
SEQUENCE:0
LOCATION:
STATUS:CONFIRMED
SUMMARY:Pentecost Sunday
TRANSP:OPAQUE
CATEGORIES:Mass 
END:VEVENT

BEGIN:VEVENT
DTSTART:20260528T130000
DTEND:20260528T150000
DTSTAMP:20260422T095733
UID:22ac3c5a5bf0b520d281c122d1490650@sbdhs.net
CREATED:20250602T123110
DESCRIPTION:&lt\;p&gt\;Doors open at 12:30 for the matinee. Lining up in the foyer begins at 12:15 PM.&lt\;/p&gt\;
LAST-MODIFIED:20250602T123110
SEQUENCE:0
LOCATION:
STATUS:CONFIRMED
SUMMARY:Spring Tea Matinee
TRANSP:OPAQUE
CATEGORIES:General
END:VEVENT

BEGIN:VEVENT
DTSTART:20260528T183000
DTEND:20260528T203000
DTSTAMP:20260422T095733
UID:aff1621254f7c1be92f64550478c56e6@sbdhs.net
CREATED:20250602T132652
DESCRIPTION:&lt\;p&gt\;Doors will open for students and parents at 6:00 where students will go to thier classroom and parents will be seated. Grade 8's can come directly to the school at 6 to assist with entry to the show&lt\;/p&gt\;
LAST-MODIFIED:20250602T132652
SEQUENCE:0
LOCATION:
STATUS:CONFIRMED
SUMMARY:Spring Tea Evening Performance 
TRANSP:OPAQUE
CATEGORIES:General
END:VEVENT

BEGIN:VEVENT
DTSTART:20260529T113500
DTEND:20260529T122000
DTSTAMP:20260422T095733
UID:f7e9050c92a851b0016442ab604b0488@sbdhs.net
CREATED:20250602T132721
DESCRIPTION:
LAST-MODIFIED:20250602T132721
SEQUENCE:0
LOCATION:
STATUS:CONFIRMED
SUMMARY:pizza lunch for those who ordered ONLY!
TRANSP:OPAQUE
CATEGORIES:General
END:VEVENT

BEGIN:VEVENT
DTSTART:20260531
DTSTAMP:20260422T095733
UID:addfa9b7e234254d26e9c7f2af1005cb@sbdhs.net
CREATED:20250602T132841
DESCRIPTION:
LAST-MODIFIED:20250602T132841
SEQUENCE:0
LOCATION:
STATUS:CONFIRMED
SUMMARY:Holy Trinity Sunday
TRANSP:OPAQUE
CATEGORIES:Mass 
END:VEVENT

BEGIN:VEVENT
DTSTART:20260608
DTSTAMP:20260422T095733
UID:352407221afb776e3143e8a1a0577885@sbdhs.net
CREATED:20250818T133420
DESCRIPTION:
LAST-MODIFIED:20250818T133420
SEQUENCE:0
LOCATION:
STATUS:CONFIRMED
SUMMARY:No AT
TRANSP:OPAQUE
CATEGORIES:General
END:VEVENT

BEGIN:VEVENT
DTSTART:20260608
DTSTAMP:20260422T095733
UID:8c235f89a8143a28a1d6067e959dd858@sbdhs.net
CREATED:20250602T132941
DESCRIPTION:&lt\;p&gt\;Only for thos who qualified.&lt\;/p&gt\;
LAST-MODIFIED:20250602T132941
SEQUENCE:0
LOCATION:U of M
STATUS:CONFIRMED
SUMMARY:Knights of Colombus 7 +8 Track 
TRANSP:OPAQUE
CATEGORIES:Competitive Sports
END:VEVENT

BEGIN:VEVENT
DTSTART:20260609
DTSTAMP:20260422T095733
UID:847cc55b7032108eee6dd897f3bca8a5@sbdhs.net
CREATED:20250602T133026
DESCRIPTION:&lt\;p&gt\;Only for thos who qualified&lt\;/p&gt\;
LAST-MODIFIED:20250602T133026
SEQUENCE:0
LOCATION:
STATUS:CONFIRMED
SUMMARY:Knights of Colombus 4-6 Track
TRANSP:OPAQUE
CATEGORIES:Competitive Sports
END:VEVENT

BEGIN:VEVENT
DTSTART:20260612
DTSTAMP:20260422T095733
UID:a67f096809415ca1c9f112d96d27689b@sbdhs.net
CREATED:20250818T133334
DESCRIPTION:
LAST-MODIFIED:20250818T133334
SEQUENCE:0
LOCATION:
STATUS:CONFIRMED
SUMMARY:No School. No AT
TRANSP:OPAQUE
CATEGORIES:No School
END:VEVENT

BEGIN:VEVENT
DTSTART:20260616T140000
DTEND:20260616T141500
DTSTAMP:20260422T095733
UID:2a084e55c87b1ebcdaad1f62fdbbac8e@sbdhs.net
CREATED:20250602T133147
DESCRIPTION:&lt\;p&gt\;Students not picked up by 2:15 will be taken to the afterschool program&lt\;/p&gt\;
LAST-MODIFIED:20250602T133147
SEQUENCE:0
LOCATION:
STATUS:CONFIRMED
SUMMARY:Early Dismissal
TRANSP:OPAQUE
CATEGORIES:Early Dismissal
END:VEVENT

BEGIN:VEVENT
DTSTART:20260616T190000
DTEND:20260616T200000
DTSTAMP:20260422T095733
UID:da0d1111d2dc5d489242e60ebcbaf988@sbdhs.net
CREATED:20251002T122231
DESCRIPTION:&lt\;p&gt\;Monthly PAC meeting&lt\;/p&gt\;
LAST-MODIFIED:20251002T122231
SEQUENCE:0
LOCATION:
STATUS:CONFIRMED
SUMMARY:PAC meeting
TRANSP:OPAQUE
CATEGORIES:General
END:VEVENT

BEGIN:VEVENT
DTSTART:20260618
DTSTAMP:20260422T095733
UID:fc49306d97602c8ed1be1dfbf0835ead@sbdhs.net
CREATED:20250602T133214
DESCRIPTION:
LAST-MODIFIED:20250602T133214
SEQUENCE:0
LOCATION:
STATUS:CONFIRMED
SUMMARY:Grade 8 Retreat
TRANSP:OPAQUE
CATEGORIES:Mass 
END:VEVENT

BEGIN:VEVENT
DTSTART:20260622T083000
DTEND:20260622T113500
DTSTAMP:20260422T095733
UID:dd45045f8c68db9f54e70c67048d32e8@sbdhs.net
CREATED:20250602T133838
DESCRIPTION:
LAST-MODIFIED:20250602T133838
SEQUENCE:0
LOCATION:
STATUS:CONFIRMED
SUMMARY:Outdoor Fun Morning
TRANSP:OPAQUE
CATEGORIES:Colour Day
END:VEVENT

BEGIN:VEVENT
DTSTART:20260622T122000
DTEND:20260622T150000
DTSTAMP:20260422T095733
UID:49c9adb18e44be0711a94e827042f630@sbdhs.net
CREATED:20250602T133918
DESCRIPTION:&lt\;p&gt\;Following Fun Day&lt\;/p&gt\;
LAST-MODIFIED:20250602T133918
SEQUENCE:0
LOCATION:
STATUS:CONFIRMED
SUMMARY:Talent Show Afternoon
TRANSP:OPAQUE
CATEGORIES:Colour Day
END:VEVENT

BEGIN:VEVENT
DTSTART:20260623T101500
DTEND:20260623T111500
DTSTAMP:20260422T095733
UID:ede7e2b6d13a41ddf9f4bdef84fdc737@sbdhs.net
CREATED:20250602T133814
DESCRIPTION:&lt\;p&gt\;For students leaving early:&lt\;/p&gt\;&lt\;p&gt\;They must either be picked up Prior to 9:30 AM or After we return! We will not be keeping students at school to be picked up. If they are here at 9:30 they will attend Mass.&lt\;/p&gt\;
LAST-MODIFIED:20250602T133814
SEQUENCE:0
LOCATION:
STATUS:CONFIRMED
SUMMARY:Farewell Mass
TRANSP:OPAQUE
CATEGORIES:Mass 
END:VEVENT

BEGIN:VEVENT
DTSTART:20260624
DTSTAMP:20260422T095733
UID:ca8155f4d27f205953f9d3d7974bdd70@sbdhs.net
CREATED:20250602T133725
DESCRIPTION:
LAST-MODIFIED:20250602T133725
SEQUENCE:0
LOCATION:
STATUS:CONFIRMED
SUMMARY:Kindergarten Grad
TRANSP:OPAQUE
CATEGORIES:General
END:VEVENT

BEGIN:VEVENT
DTSTART:20260625T183000
DTEND:20260625T203000
DTSTAMP:20260422T095733
UID:3b3dbaf68507998acd6a5a5254ab2d76@sbdhs.net
CREATED:20250602T133705
DESCRIPTION:
LAST-MODIFIED:20250602T133705
SEQUENCE:0
LOCATION:
STATUS:CONFIRMED
SUMMARY:Grade 8 Farewell
TRANSP:OPAQUE
CATEGORIES:General
END:VEVENT

BEGIN:VEVENT
DTSTART:20260626
DTSTAMP:20260422T095733
UID:1fc214004c9481e4c8073e85323bfd4b@sbdhs.net
CREATED:20250602T133638
DESCRIPTION:
LAST-MODIFIED:20250602T133638
SEQUENCE:0
LOCATION:
STATUS:CONFIRMED
SUMMARY:Reports Go Home
TRANSP:OPAQUE
CATEGORIES:General
END:VEVENT

BEGIN:VEVENT
DTSTART:20260629
DTSTAMP:20260422T095733
UID:f9a40a4780f5e1306c46f1c8daecee3b@sbdhs.net
CREATED:20250602T133332
DESCRIPTION:
LAST-MODIFIED:20250602T133332
SEQUENCE:0
LOCATION:
STATUS:CONFIRMED
SUMMARY:Early Dismissal Day. Pick up by 11:35 NO AFTERCARE!
TRANSP:OPAQUE
CATEGORIES:Early Dismissal
END:VEVENT

BEGIN:VEVENT
DTSTART:20260630
DTSTAMP:20260422T095733
UID:5ec91aac30eae62f4140325d09b9afd0@sbdhs.net
CREATED:20250818T133355
DESCRIPTION:
LAST-MODIFIED:20250818T133355
SEQUENCE:0
LOCATION:
STATUS:CONFIRMED
SUMMARY:No School! Enjoy Summer. No AT
TRANSP:OPAQUE
CATEGORIES:No School
END:VEVENT

BEGIN:VEVENT
DTSTART:20260701
DTSTAMP:20260422T095733
UID:22fb0cee7e1f3bde58293de743871417@sbdhs.net
CREATED:20250602T134638
DESCRIPTION:
LAST-MODIFIED:20250602T134638
SEQUENCE:0
LOCATION:
STATUS:CONFIRMED
SUMMARY:Office Closed for Canada Day
TRANSP:OPAQUE
CATEGORIES:No School
END:VEVENT

BEGIN:VEVENT
DTSTART:20260703T083000
DTEND:20260703T120000
DTSTAMP:20260422T095733
UID:aeb3135b436aa55373822c010763dd54@sbdhs.net
CREATED:20250602T134724
DESCRIPTION:
LAST-MODIFIED:20250602T134724
SEQUENCE:0
LOCATION:
STATUS:CONFIRMED
SUMMARY:Office Closed for the summer!
TRANSP:OPAQUE
CATEGORIES:Admin Day
END:VEVENT

END:VCALENDAR